BEGIN:VCALENDAR
VERSION:2.0
PRODID:-//Stowe Trails Partnership - ECPv6.11.2.1//NONSGML v1.0//EN
CALSCALE:GREGORIAN
METHOD:PUBLISH
X-ORIGINAL-URL:https://stowetrails.org
X-WR-CALDESC:Events for Stowe Trails Partnership
REFRESH-INTERVAL;VALUE=DURATION:PT1H
X-Robots-Tag:noindex
X-PUBLISHED-TTL:PT1H
BEGIN:VTIMEZONE
TZID:UTC
BEGIN:STANDARD
TZOFFSETFROM:+0000
TZOFFSETTO:+0000
TZNAME:UTC
DTSTART:20260101T000000
END:STANDARD
END:VTIMEZONE
BEGIN:VEVENT
DTSTART;TZID=UTC:20260707T180000
DTEND;TZID=UTC:20260707T190000
DTSTAMP:20260423T185219
CREATED:20260312T154338Z
LAST-MODIFIED:20260312T154338Z
UID:10832-1783447200-1783450800@stowetrails.org
SUMMARY:July Outreach Committee Meeting
DESCRIPTION:Join us July 7th for our monthly Outreach Committee meeting from 6-7 pm at the Stowe Area Association. Please reach out to info@stowetrails.org with any questions!
URL:https://stowetrails.org/event/july-outreach-committee-meeting/
LOCATION:Stowe Area Association
CATEGORIES:Board/Committee Meeting
ORGANIZER;CN="Stowe Trails Partnership":MAILTO:info@stowetrails.org
END:VEVENT
BEGIN:VEVENT
DTSTART;TZID=UTC:20260708T180000
DTEND;TZID=UTC:20260708T200000
DTSTAMP:20260423T185219
CREATED:20260312T150014Z
LAST-MODIFIED:20260312T150933Z
UID:10772-1783533600-1783540800@stowetrails.org
SUMMARY:July Board of Directors Meeting
DESCRIPTION:Join us July 8th  for our monthly Board of Directors meeting from 6-8 pm at the Stowe Area Association. Please reach out to info@stowetrails.org with any questions!
URL:https://stowetrails.org/event/july-board-of-directors-meeting/
LOCATION:Stowe Area Association
CATEGORIES:Board/Committee Meeting
ORGANIZER;CN="Stowe Trails Partnership":MAILTO:info@stowetrails.org
END:VEVENT
BEGIN:VEVENT
DTSTART;TZID=UTC:20260714T180000
DTEND;TZID=UTC:20260714T190000
DTSTAMP:20260423T185219
CREATED:20260312T151327Z
LAST-MODIFIED:20260312T151327Z
UID:10798-1784052000-1784055600@stowetrails.org
SUMMARY:July Fundraising Committee Meeting
DESCRIPTION:Join us July 14th for our monthly Fundraising Committee meeting from 6-7 pm at the Stowe Area Association. Please reach out to info@stowetrails.org with any questions!
URL:https://stowetrails.org/event/july-fundraising-committee-meeting/
LOCATION:Stowe Area Association
CATEGORIES:Board/Committee Meeting
ORGANIZER;CN="Stowe Trails Partnership":MAILTO:info@stowetrails.org
END:VEVENT
BEGIN:VEVENT
DTSTART;TZID=UTC:20260728T180000
DTEND;TZID=UTC:20260728T193000
DTSTAMP:20260423T185219
CREATED:20260312T153633Z
LAST-MODIFIED:20260312T153633Z
UID:10820-1785261600-1785267000@stowetrails.org
SUMMARY:July 2026 Trail Committee Meeting
DESCRIPTION:Join us July 28th for our monthly Trail Committee meeting from 6-7:30 pm at the Stowe Area Association. Please reach out to kelsie@stowetrails.org with any questions!
URL:https://stowetrails.org/event/july-2026-trail-committee-meeting/
LOCATION:Stowe Area Association
CATEGORIES:Board/Committee Meeting
ORGANIZER;CN="Stowe Trails Partnership":MAILTO:info@stowetrails.org
END:VEVENT
END:VCALENDAR