BEGIN:VCALENDAR
VERSION:2.0
PRODID:-//Stowe Trails Partnership - ECPv6.11.2.1//NONSGML v1.0//EN
CALSCALE:GREGORIAN
METHOD:PUBLISH
X-WR-CALNAME:Stowe Trails Partnership
X-ORIGINAL-URL:https://stowetrails.org
X-WR-CALDESC:Events for Stowe Trails Partnership
REFRESH-INTERVAL;VALUE=DURATION:PT1H
X-Robots-Tag:noindex
X-PUBLISHED-TTL:PT1H
BEGIN:VTIMEZONE
TZID:UTC
BEGIN:STANDARD
TZOFFSETFROM:+0000
TZOFFSETTO:+0000
TZNAME:UTC
DTSTART:20250101T000000
END:STANDARD
END:VTIMEZONE
BEGIN:VEVENT
DTSTART;TZID=UTC:20250906T090000
DTEND;TZID=UTC:20250906T130000
DTSTAMP:20260424T002628
CREATED:20250902T161803Z
LAST-MODIFIED:20250902T161803Z
UID:10505-1757149200-1757163600@stowetrails.org
SUMMARY:Serenity and Adrenaline Trail Day
DESCRIPTION:Join STP for a Saturday morning party of trail work on our double black downhill only trail! we’ll be tackling corridor clearing\, feature building\, and just having a great time. \nBring any tools you prefer to use\, water\, and a smile. We’ll bring extra tools\, pizza and drinks for post-trail work celebrations! \nMeet at the base of Haul Rd\, ready to load into a few vehicles at 9 am\, Saturday September 6th. We’ll head back down between 12-1pm!
URL:https://stowetrails.org/event/serenity-and-adrenaline-trail-day/
LOCATION:Adams Camp
CATEGORIES:Trail Work
ATTACH;FMTTYPE=image/jpeg:https://stowetrails.org/wp-content/uploads/2024/06/Photo-Jun-07-7-10-52-PM-scaled.jpg
ORGANIZER;CN="Stowe Trails Partnership":MAILTO:info@stowetrails.org
END:VEVENT
BEGIN:VEVENT
DTSTART;TZID=UTC:20250913T090000
DTEND;TZID=UTC:20250913T130000
DTSTAMP:20260424T002628
CREATED:20250902T162153Z
LAST-MODIFIED:20250902T162153Z
UID:10509-1757754000-1757768400@stowetrails.org
SUMMARY:Strawberry Hill Farm Trail Party!
DESCRIPTION:Join STP for a Saturday morning party of trail work in Strawberry Hill Farm! We’ll be tackling removing a defunct bridge and replacing it! \nBring any tools you prefer to use\, water\, and a smile. We’ll bring extra tools\, pizza and drinks for post-trail work celebrations! \nMeet at Stowe High School\, ready to walk into the property\, Saturday September 13th at 9 am. We’ll head back down between 12-1pm!
URL:https://stowetrails.org/event/strawberry-hill-farm-trail-party/
LOCATION:strawberry hill farm
CATEGORIES:Trail Work
ORGANIZER;CN="Stowe Trails Partnership":MAILTO:info@stowetrails.org
END:VEVENT
BEGIN:VEVENT
DTSTART;TZID=UTC:20250927T090000
DTEND;TZID=UTC:20250927T130000
DTSTAMP:20260424T002628
CREATED:20250902T161959Z
LAST-MODIFIED:20250902T161959Z
UID:10507-1758963600-1758978000@stowetrails.org
SUMMARY:Serenity and Adrenaline Trail Day Pt 2!
DESCRIPTION:Join STP for a Saturday morning party of trail work on our double black downhill only trail! we’ll be tackling corridor clearing\, feature building\, and just having a great time. \nBring any tools you prefer to use\, water\, and a smile. We’ll bring extra tools\, pizza and drinks for post-trail work celebrations! \nMeet at the base of Haul Rd\, ready to load into a few vehicles at 9 am\, Saturday September 27th. We’ll head back down between 12-1pm!
URL:https://stowetrails.org/event/serenity-and-adrenaline-trail-day-pt-2/
LOCATION:Adams Camp
CATEGORIES:Trail Work
ATTACH;FMTTYPE=image/jpeg:https://stowetrails.org/wp-content/uploads/2024/04/2021-04-20-15.53.14-scaled.jpg
ORGANIZER;CN="Stowe Trails Partnership":MAILTO:info@stowetrails.org
END:VEVENT
END:VCALENDAR