BEGIN:VCALENDAR
VERSION:2.0
PRODID:-//Stowe Trails Partnership - ECPv6.11.2.1//NONSGML v1.0//EN
CALSCALE:GREGORIAN
METHOD:PUBLISH
X-ORIGINAL-URL:https://stowetrails.org
X-WR-CALDESC:Events for Stowe Trails Partnership
REFRESH-INTERVAL;VALUE=DURATION:PT1H
X-Robots-Tag:noindex
X-PUBLISHED-TTL:PT1H
BEGIN:VTIMEZONE
TZID:UTC
BEGIN:STANDARD
TZOFFSETFROM:+0000
TZOFFSETTO:+0000
TZNAME:UTC
DTSTART:20250101T000000
END:STANDARD
END:VTIMEZONE
BEGIN:VEVENT
DTSTART;TZID=UTC:20250809T000000
DTEND;TZID=UTC:20250809T235959
DTSTAMP:20260424T013538
CREATED:20250617T134742Z
LAST-MODIFIED:20250617T134742Z
UID:10372-1754697600-1754783999@stowetrails.org
SUMMARY:2nd annual Strawberry Jam
DESCRIPTION:Join our friends from Strawberry Hill Farm and Zenbarn for the 2nd annual Strawberry Jam on August 9th. \nThis is a party you won’t want to miss on one of our favorite abutting landowners beautiful property. \nThis year\, The Wood Brothers\, Mononeon\, The Rumble\, Karina Rykman\, and Mike & Tessa Gordon are gracing the stage. \nGrab your tickets today!
URL:https://stowetrails.org/event/2nd-annual-strawberry-jam/
LOCATION:strawberry hill farm
CATEGORIES:Festival
ATTACH;FMTTYPE=image/png:https://stowetrails.org/wp-content/uploads/2025/06/StrawberryJam_2025_Announce_1080x1350_V8-scaled.png
END:VEVENT
BEGIN:VEVENT
DTSTART;TZID=UTC:20250811T173000
DTEND;TZID=UTC:20250811T193000
DTSTAMP:20260424T013538
CREATED:20250603T145516Z
LAST-MODIFIED:20250603T145516Z
UID:10333-1754933400-1754940600@stowetrails.org
SUMMARY:Trail Work Day
DESCRIPTION:Join us for our every-other-week trail work night! Bring work gloves\, water\, and maybe even some bug spray and help us work on your favorite trails! We’ll update with specific projects as they come up\, including where to meet!
URL:https://stowetrails.org/event/trail-work-day-5/
CATEGORIES:Trail Work
ORGANIZER;CN="Stowe Trails Partnership":MAILTO:info@stowetrails.org
END:VEVENT
BEGIN:VEVENT
DTSTART;TZID=UTC:20250825T173000
DTEND;TZID=UTC:20250825T193000
DTSTAMP:20260424T013538
CREATED:20250603T145607Z
LAST-MODIFIED:20250603T145607Z
UID:10335-1756143000-1756150200@stowetrails.org
SUMMARY:Trail Work Day
DESCRIPTION:Join us for our every-other-week trail work night! Bring work gloves\, water\, and maybe even some bug spray and help us work on your favorite trails! We’ll update with specific projects as they come up\, including where to meet!
URL:https://stowetrails.org/event/trail-work-day-6/
CATEGORIES:Trail Work
ORGANIZER;CN="Stowe Trails Partnership":MAILTO:info@stowetrails.org
END:VEVENT
END:VCALENDAR