BEGIN:VCALENDAR
VERSION:2.0
PRODID:-//Stowe Trails Partnership - ECPv6.11.2.1//NONSGML v1.0//EN
CALSCALE:GREGORIAN
METHOD:PUBLISH
X-ORIGINAL-URL:https://stowetrails.org
X-WR-CALDESC:Events for Stowe Trails Partnership
REFRESH-INTERVAL;VALUE=DURATION:PT1H
X-Robots-Tag:noindex
X-PUBLISHED-TTL:PT1H
BEGIN:VTIMEZONE
TZID:UTC
BEGIN:STANDARD
TZOFFSETFROM:+0000
TZOFFSETTO:+0000
TZNAME:UTC
DTSTART:20260101T000000
END:STANDARD
END:VTIMEZONE
BEGIN:VEVENT
DTSTART;TZID=UTC:20261201T180000
DTEND;TZID=UTC:20261201T190000
DTSTAMP:20260424T001510
CREATED:20260312T155608Z
LAST-MODIFIED:20260312T155608Z
UID:10838-1796148000-1796151600@stowetrails.org
SUMMARY:December 2026 Outreach Committee Meeting
DESCRIPTION:Join us December 1st for our monthly Outreach Committee meeting from 6-7 pm at the Stowe Area Association. Please reach out to info@stowetrails.org with any questions!
URL:https://stowetrails.org/event/december-2026-outreach-committee-meeting/
LOCATION:Stowe Area Association
CATEGORIES:Board/Committee Meeting
ORGANIZER;CN="Stowe Trails Partnership":MAILTO:info@stowetrails.org
END:VEVENT
BEGIN:VEVENT
DTSTART;TZID=UTC:20261215T180000
DTEND;TZID=UTC:20261215T190000
DTSTAMP:20260424T001510
CREATED:20260312T153057Z
LAST-MODIFIED:20260312T153057Z
UID:10808-1797357600-1797361200@stowetrails.org
SUMMARY:December 2026 Fundraising Committee Meeting
DESCRIPTION:Join us on December 15th for our monthly Fundraising Committee meeting from 6-7 pm at the Stowe Area Association. Please reach out to info@stowetrails.org with any questions!
URL:https://stowetrails.org/event/december-2026-fundraising-committee-meeting/
LOCATION:Stowe Area Association
CATEGORIES:Board/Committee Meeting
ORGANIZER;CN="Stowe Trails Partnership":MAILTO:info@stowetrails.org
END:VEVENT
BEGIN:VEVENT
DTSTART;TZID=UTC:20261222T180000
DTEND;TZID=UTC:20261222T193000
DTSTAMP:20260424T001510
CREATED:20260312T153216Z
LAST-MODIFIED:20260312T153216Z
UID:10810-1797962400-1797967800@stowetrails.org
SUMMARY:December 2026 Trail Committee Meeting
DESCRIPTION:Join us December 22nd for our monthly Trail Committee meeting from 6-7:30 pm at the Stowe Area Association. Please reach out to kelsie@stowetrails.org with any questions!
URL:https://stowetrails.org/event/december-2026-trail-committee-meeting/
LOCATION:Stowe Area Association
CATEGORIES:Board/Committee Meeting
ORGANIZER;CN="Stowe Trails Partnership":MAILTO:info@stowetrails.org
END:VEVENT
END:VCALENDAR