BEGIN:VCALENDAR
VERSION:2.0
PRODID:-//Stowe Trails Partnership - ECPv6.11.2.1//NONSGML v1.0//EN
CALSCALE:GREGORIAN
METHOD:PUBLISH
X-ORIGINAL-URL:https://stowetrails.org
X-WR-CALDESC:Events for Stowe Trails Partnership
REFRESH-INTERVAL;VALUE=DURATION:PT1H
X-Robots-Tag:noindex
X-PUBLISHED-TTL:PT1H
BEGIN:VTIMEZONE
TZID:UTC
BEGIN:STANDARD
TZOFFSETFROM:+0000
TZOFFSETTO:+0000
TZNAME:UTC
DTSTART:20260101T000000
END:STANDARD
END:VTIMEZONE
BEGIN:VEVENT
DTSTART;TZID=UTC:20261027T180000
DTEND;TZID=UTC:20261027T193000
DTSTAMP:20260423T221115
CREATED:20260312T153406Z
LAST-MODIFIED:20260312T153406Z
UID:10814-1793124000-1793129400@stowetrails.org
SUMMARY:October 2026 Trail Committee Meeting
DESCRIPTION:Join us October 27th for our monthly Trail Committee meeting from 6-7:30 pm at the Stowe Area Association. Please reach out to kelsie@stowetrails.org with any questions!
URL:https://stowetrails.org/event/october-2026-trail-committee-meeting/
LOCATION:Stowe Area Association
CATEGORIES:Board/Committee Meeting
ORGANIZER;CN="Stowe Trails Partnership":MAILTO:info@stowetrails.org
END:VEVENT
BEGIN:VEVENT
DTSTART;TZID=UTC:20261103T180000
DTEND;TZID=UTC:20261103T190000
DTSTAMP:20260423T221115
CREATED:20260312T155646Z
LAST-MODIFIED:20260312T155646Z
UID:10840-1793728800-1793732400@stowetrails.org
SUMMARY:November 2026 Outreach Committee Meeting
DESCRIPTION:Join us November 3rd for our monthly Outreach Committee meeting from 6-7 pm at the Stowe Area Association. Please reach out to info@stowetrails.org with any questions!
URL:https://stowetrails.org/event/november-2026-outreach-committee-meeting/
LOCATION:Stowe Area Association
CATEGORIES:Board/Committee Meeting
ORGANIZER;CN="Stowe Trails Partnership":MAILTO:info@stowetrails.org
END:VEVENT
BEGIN:VEVENT
DTSTART;TZID=UTC:20261111T180000
DTEND;TZID=UTC:20261111T200000
DTSTAMP:20260423T221115
CREATED:20260312T150336Z
LAST-MODIFIED:20260312T150808Z
UID:10780-1794420000-1794427200@stowetrails.org
SUMMARY:November 2026 Board of Directors Meeting
DESCRIPTION:Join us November 12th for our monthly Board of Directors meeting from 6-8 pm at the Stowe Area Association. Please reach out to info@stowetrails.org with any questions!
URL:https://stowetrails.org/event/november-2026-board-of-directors-meeting/
LOCATION:Stowe Area Association
CATEGORIES:Board/Committee Meeting
ORGANIZER;CN="Stowe Trails Partnership":MAILTO:info@stowetrails.org
END:VEVENT
BEGIN:VEVENT
DTSTART;TZID=UTC:20261117T180000
DTEND;TZID=UTC:20261117T190000
DTSTAMP:20260423T221115
CREATED:20260312T151647Z
LAST-MODIFIED:20260312T151647Z
UID:10806-1794938400-1794942000@stowetrails.org
SUMMARY:November Fundraising Committee Meeting
DESCRIPTION:Join us November 17th for our monthly Fundraising Committee meeting from 6-7 pm at the Stowe Area Association. Please reach out to info@stowetrails.org with any questions!
URL:https://stowetrails.org/event/november-fundraising-committee-meeting/
LOCATION:Stowe Area Association
CATEGORIES:Board/Committee Meeting
ORGANIZER;CN="Stowe Trails Partnership":MAILTO:info@stowetrails.org
END:VEVENT
BEGIN:VEVENT
DTSTART;TZID=UTC:20261124T180000
DTEND;TZID=UTC:20261124T193000
DTSTAMP:20260423T221115
CREATED:20260312T153306Z
LAST-MODIFIED:20260312T153306Z
UID:10812-1795543200-1795548600@stowetrails.org
SUMMARY:November 2026 Trail Committee Meeting
DESCRIPTION:Join us November 24th for our monthly Trail Committee meeting from 6-7:30 pm at the Stowe Area Association. Please reach out to kelsie@stowetrails.org with any questions!
URL:https://stowetrails.org/event/november-2026-trail-committee-meeting/
LOCATION:Stowe Area Association
CATEGORIES:Board/Committee Meeting
ORGANIZER;CN="Stowe Trails Partnership":MAILTO:info@stowetrails.org
END:VEVENT
BEGIN:VEVENT
DTSTART;TZID=UTC:20261201T180000
DTEND;TZID=UTC:20261201T190000
DTSTAMP:20260423T221115
CREATED:20260312T155608Z
LAST-MODIFIED:20260312T155608Z
UID:10838-1796148000-1796151600@stowetrails.org
SUMMARY:December 2026 Outreach Committee Meeting
DESCRIPTION:Join us December 1st for our monthly Outreach Committee meeting from 6-7 pm at the Stowe Area Association. Please reach out to info@stowetrails.org with any questions!
URL:https://stowetrails.org/event/december-2026-outreach-committee-meeting/
LOCATION:Stowe Area Association
CATEGORIES:Board/Committee Meeting
ORGANIZER;CN="Stowe Trails Partnership":MAILTO:info@stowetrails.org
END:VEVENT
BEGIN:VEVENT
DTSTART;TZID=UTC:20261215T180000
DTEND;TZID=UTC:20261215T190000
DTSTAMP:20260423T221115
CREATED:20260312T153057Z
LAST-MODIFIED:20260312T153057Z
UID:10808-1797357600-1797361200@stowetrails.org
SUMMARY:December 2026 Fundraising Committee Meeting
DESCRIPTION:Join us on December 15th for our monthly Fundraising Committee meeting from 6-7 pm at the Stowe Area Association. Please reach out to info@stowetrails.org with any questions!
URL:https://stowetrails.org/event/december-2026-fundraising-committee-meeting/
LOCATION:Stowe Area Association
CATEGORIES:Board/Committee Meeting
ORGANIZER;CN="Stowe Trails Partnership":MAILTO:info@stowetrails.org
END:VEVENT
BEGIN:VEVENT
DTSTART;TZID=UTC:20261222T180000
DTEND;TZID=UTC:20261222T193000
DTSTAMP:20260423T221115
CREATED:20260312T153216Z
LAST-MODIFIED:20260312T153216Z
UID:10810-1797962400-1797967800@stowetrails.org
SUMMARY:December 2026 Trail Committee Meeting
DESCRIPTION:Join us December 22nd for our monthly Trail Committee meeting from 6-7:30 pm at the Stowe Area Association. Please reach out to kelsie@stowetrails.org with any questions!
URL:https://stowetrails.org/event/december-2026-trail-committee-meeting/
LOCATION:Stowe Area Association
CATEGORIES:Board/Committee Meeting
ORGANIZER;CN="Stowe Trails Partnership":MAILTO:info@stowetrails.org
END:VEVENT
END:VCALENDAR