BEGIN:VCALENDAR
VERSION:2.0
PRODID:-//Stowe Trails Partnership - ECPv6.11.2.1//NONSGML v1.0//EN
CALSCALE:GREGORIAN
METHOD:PUBLISH
X-WR-CALNAME:Stowe Trails Partnership
X-ORIGINAL-URL:https://stowetrails.org
X-WR-CALDESC:Events for Stowe Trails Partnership
REFRESH-INTERVAL;VALUE=DURATION:PT1H
X-Robots-Tag:noindex
X-PUBLISHED-TTL:PT1H
BEGIN:VTIMEZONE
TZID:UTC
BEGIN:STANDARD
TZOFFSETFROM:+0000
TZOFFSETTO:+0000
TZNAME:UTC
DTSTART:20250101T000000
END:STANDARD
END:VTIMEZONE
BEGIN:VEVENT
DTSTART;TZID=UTC:20250721T173000
DTEND;TZID=UTC:20250721T193000
DTSTAMP:20260423T204716
CREATED:20250603T152604Z
LAST-MODIFIED:20250603T213647Z
UID:10355-1753119000-1753126200@stowetrails.org
SUMMARY:Stowe Trailheads Weekly Trail Run
DESCRIPTION:Join Stowe Trailheads for their Weekly social run! Check out their social media for more information on where to meet every Wednesday at 5:30 pm. \nInstagram  \nOr their website\, Stowetrailheads.com
URL:https://stowetrails.org/event/stowe-trailheads-weekly-trail-run-4/
CATEGORIES:Group Run
ATTACH;FMTTYPE=image/png:https://stowetrails.org/wp-content/uploads/2025/06/TRAILHEADS_PRIMARY_OPAQUE.png
END:VEVENT
BEGIN:VEVENT
DTSTART;TZID=UTC:20250716T173000
DTEND;TZID=UTC:20250716T193000
DTSTAMP:20260423T204716
CREATED:20250603T152408Z
LAST-MODIFIED:20250709T163411Z
UID:10353-1752687000-1752694200@stowetrails.org
SUMMARY:Stowe Trailheads Weekly Trail Run
DESCRIPTION:Join Stowe Trailheads for their Weekly social run! Check out their social media for more information on where to meet every Wednesday at 5:30 pm. \nInstagram 
URL:https://stowetrails.org/event/stowe-trailheads-weekly-trail-run-3/
CATEGORIES:Group Run
ATTACH;FMTTYPE=image/png:https://stowetrails.org/wp-content/uploads/2025/06/TRAILHEADS_PRIMARY_OPAQUE.png
END:VEVENT
BEGIN:VEVENT
DTSTART;TZID=UTC:20250709T173000
DTEND;TZID=UTC:20250709T193000
DTSTAMP:20260423T204716
CREATED:20250603T151919Z
LAST-MODIFIED:20250603T151919Z
UID:10351-1752082200-1752089400@stowetrails.org
SUMMARY:Stowe Trailheads Weekly Trail Run
DESCRIPTION:Join Stowe Trailheads for their Weekly social run! Check out their social media for more information on where to meet every Wednesday at 5:30 pm. \nInstagram 
URL:https://stowetrails.org/event/stowe-trailheads-weekly-trail-run-2/
CATEGORIES:Group Run
ATTACH;FMTTYPE=image/png:https://stowetrails.org/wp-content/uploads/2025/06/TRAILHEADS_PRIMARY_OPAQUE.png
END:VEVENT
BEGIN:VEVENT
DTSTART;TZID=UTC:20250702T080000
DTEND;TZID=UTC:20250702T170000
DTSTAMP:20260423T204716
CREATED:20250603T151511Z
LAST-MODIFIED:20250603T151638Z
UID:10347-1751443200-1751475600@stowetrails.org
SUMMARY:Stowe Trailhead Weekly Trail Run
DESCRIPTION:Join Stowe Trailheads for their Weekly social run! Check out their social media for more information on where to meet every Wednesday at 5:30 pm. \nInstagram 
URL:https://stowetrails.org/event/10347/
CATEGORIES:Group Run
ATTACH;FMTTYPE=image/png:https://stowetrails.org/wp-content/uploads/2025/06/TRAILHEADS_PRIMARY_OPAQUE.png
END:VEVENT
BEGIN:VEVENT
DTSTART;TZID=UTC:20250624T080000
DTEND;TZID=UTC:20250624T170000
DTSTAMP:20260423T204716
CREATED:20250603T151325Z
LAST-MODIFIED:20250603T151325Z
UID:10345-1750752000-1750784400@stowetrails.org
SUMMARY:Stowe Trailheads Weekly Trail Run
DESCRIPTION:Join Stowe Trailheads for their Weekly social run! Check out their social media for more information on where to meet every Wednesday at 5:30 pm. \nInstagram 
URL:https://stowetrails.org/event/stowe-trailheads-weekly-trail-run/
CATEGORIES:Group Run
ATTACH;FMTTYPE=image/png:https://stowetrails.org/wp-content/uploads/2025/06/TRAILHEADS_PRIMARY_OPAQUE.png
END:VEVENT
BEGIN:VEVENT
DTSTART;TZID=UTC:20250618T173000
DTEND;TZID=UTC:20250618T193000
DTSTAMP:20260423T204716
CREATED:20250603T151019Z
LAST-MODIFIED:20250603T151101Z
UID:10342-1750267800-1750275000@stowetrails.org
SUMMARY:Stowe Trailheads Weekly Run
DESCRIPTION:Join Stowe Trailheads for their Weekly social run! Check out their social media for more information on where to meet every Wednesday at 5:30 pm. \nInstagram 
URL:https://stowetrails.org/event/10342/
CATEGORIES:Group Run
ATTACH;FMTTYPE=image/png:https://stowetrails.org/wp-content/uploads/2025/06/TRAILHEADS_PRIMARY_OPAQUE.png
END:VEVENT
BEGIN:VEVENT
DTSTART;TZID=UTC:20250611T173000
DTEND;TZID=UTC:20250611T193000
DTSTAMP:20260423T204716
CREATED:20250603T150026Z
LAST-MODIFIED:20250603T150026Z
UID:10340-1749663000-1749670200@stowetrails.org
SUMMARY:Stowe Trailheads Weekly Run
DESCRIPTION:Join Stowe Trailheads for their Weekly social run! Check out their social media for more information on where to meet every Wednesday at 5:30 pm. \nInstagram 
URL:https://stowetrails.org/event/stowe-trailheads-weekly-run-2/
CATEGORIES:Group Run
ATTACH;FMTTYPE=image/png:https://stowetrails.org/wp-content/uploads/2025/06/TRAILHEADS_PRIMARY_OPAQUE.png
END:VEVENT
BEGIN:VEVENT
DTSTART;TZID=UTC:20250604T173000
DTEND;TZID=UTC:20250604T200000
DTSTAMP:20260423T204716
CREATED:20250603T145950Z
LAST-MODIFIED:20250603T213626Z
UID:10337-1749058200-1749067200@stowetrails.org
SUMMARY:Stowe Trailheads Weekly Run
DESCRIPTION:Join Stowe Trailheads for their Weekly social run! Check out their social media for more information on where to meet every Wednesday at 5:30 pm. \nInstagram  \nOr their websit\, Stowetrailheads.com
URL:https://stowetrails.org/event/stowe-trailheads-weekly-run/
CATEGORIES:Group Run
ATTACH;FMTTYPE=image/png:https://stowetrails.org/wp-content/uploads/2025/06/TRAILHEADS_PRIMARY_OPAQUE.png
END:VEVENT
BEGIN:VEVENT
DTSTART;TZID=UTC:20250521T173000
DTEND;TZID=UTC:20250521T193000
DTSTAMP:20260423T204716
CREATED:20250516T131536Z
LAST-MODIFIED:20250516T131536Z
UID:10304-1747848600-1747855800@stowetrails.org
SUMMARY:Stowe Trailheads Trail Run
DESCRIPTION:Join Stowe Trailheads for their first trail run of the season on Wednesday May 21st starting at 5:30. Get there a few minutes before hand to grab some demo Rossignol trail running shoes and Tailwind nutrition from our friends at Mountain Ops! \nMeet at the Ranch Camp parking lot and the loop would be approximately 3.5 miles.
URL:https://stowetrails.org/event/stowe-trailheads-trail-run/
LOCATION:Cady Hill Town Forest
CATEGORIES:Group Run
ATTACH;FMTTYPE=image/jpeg:https://stowetrails.org/wp-content/uploads/2025/05/IMG_2037.jpg
END:VEVENT
END:VCALENDAR