BEGIN:VCALENDAR
VERSION:2.0
PRODID:-//Stowe Trails Partnership - ECPv6.11.2.1//NONSGML v1.0//EN
CALSCALE:GREGORIAN
METHOD:PUBLISH
X-WR-CALNAME:Stowe Trails Partnership
X-ORIGINAL-URL:https://stowetrails.org
X-WR-CALDESC:Events for Stowe Trails Partnership
REFRESH-INTERVAL;VALUE=DURATION:PT1H
X-Robots-Tag:noindex
X-PUBLISHED-TTL:PT1H
BEGIN:VTIMEZONE
TZID:UTC
BEGIN:STANDARD
TZOFFSETFROM:+0000
TZOFFSETTO:+0000
TZNAME:UTC
DTSTART:20260101T000000
END:STANDARD
END:VTIMEZONE
BEGIN:VEVENT
DTSTART;TZID=UTC:20261010T080000
DTEND;TZID=UTC:20261010T170000
DTSTAMP:20260423T185049
CREATED:20251220T182612Z
LAST-MODIFIED:20251220T182612Z
UID:10705-1791619200-1791651600@stowetrails.org
SUMMARY:15th Annual Leaf Blower Fall Classic
DESCRIPTION:Save the date for our 15th annual Leaf Blower Fall Classic at Strawberry Hill Farms on October 10th\, 2026! \nSign up for our newsletter to stay in the know on more details and when we will release tickets for our biggest FUNdraiser of the year!
URL:https://stowetrails.org/event/15th-annual-leaf-blower-fall-classic/
LOCATION:strawberry hill farm
CATEGORIES:Festival,Group Ride
END:VEVENT
END:VCALENDAR