BEGIN:VCALENDAR
VERSION:2.0
PRODID:-//Stowe Trails Partnership - ECPv6.11.2.1//NONSGML v1.0//EN
CALSCALE:GREGORIAN
METHOD:PUBLISH
X-ORIGINAL-URL:https://stowetrails.org
X-WR-CALDESC:Events for Stowe Trails Partnership
REFRESH-INTERVAL;VALUE=DURATION:PT1H
X-Robots-Tag:noindex
X-PUBLISHED-TTL:PT1H
BEGIN:VTIMEZONE
TZID:UTC
BEGIN:STANDARD
TZOFFSETFROM:+0000
TZOFFSETTO:+0000
TZNAME:UTC
DTSTART:20250101T000000
END:STANDARD
END:VTIMEZONE
BEGIN:VEVENT
DTSTART;TZID=UTC:20250508T160000
DTEND;TZID=UTC:20250508T193000
DTSTAMP:20260423T201707
CREATED:20250501T162118Z
LAST-MODIFIED:20250501T162118Z
UID:10288-1746720000-1746732600@stowetrails.org
SUMMARY:Trail Sits and Sips
DESCRIPTION:Join STP\, VMBA\, and our friends from Lawson’s Finest Liquids. \nVMBA will be doing rides during the evening from the VMBA tent\, just come stop by and find out when the next ride is (rides will be leaving from Ranch Camp). Ranch Camp will be sending out Demos all day (use your Member Benefit to get 50% off) . Then most importantly VMBA will be there to sell and fulfill memberships on-site. \nFor current members and people who get them on-site will be entered into a day of raffle and Lawsons will be providing beers on Lawsons (for those over 21) during our Apre at Ranch Camp.The Raffle will be drawn at Ranch Camp at 7:15 pm. \nCome out and start the season off right with bikes\, friends\, and of course your 2025 VMBA Membership! \nSchedule:  \n4-6:30: Rides\, Demos\, raffle and membership sales at Ranch Camp parking lot \n6:30 – 7:30: Apre party at Ranch Camp. (get a beer on Lawsons with proof of current membership). \nAddress: \nRanch Camp parking: 311 Mountain Rd\, Stowe\, VT 05672 \nCady Hill Trail head\,Mountain Rd\, Stowe\, VT 05672 \nRaffle Partners: \n\nRim Saver\nBivo\nDarn Tough\nSunset Lake CBD\nSkida
URL:https://stowetrails.org/event/trail-sits-and-sips/
LOCATION:Cady Hill Town Forest
CATEGORIES:Group Ride
ATTACH;FMTTYPE=image/png:https://stowetrails.org/wp-content/uploads/2025/05/Screenshot-2025-05-01-at-12.18.56 PM.png
END:VEVENT
END:VCALENDAR