BEGIN:VCALENDAR
VERSION:2.0
PRODID:-//Stowe Trails Partnership - ECPv6.11.2.1//NONSGML v1.0//EN
CALSCALE:GREGORIAN
METHOD:PUBLISH
X-ORIGINAL-URL:https://stowetrails.org
X-WR-CALDESC:Events for Stowe Trails Partnership
REFRESH-INTERVAL;VALUE=DURATION:PT1H
X-Robots-Tag:noindex
X-PUBLISHED-TTL:PT1H
BEGIN:VTIMEZONE
TZID:UTC
BEGIN:STANDARD
TZOFFSETFROM:+0000
TZOFFSETTO:+0000
TZNAME:UTC
DTSTART:20250101T000000
END:STANDARD
END:VTIMEZONE
BEGIN:VEVENT
DTSTART;TZID=UTC:20250628T090000
DTEND;TZID=UTC:20250628T170000
DTSTAMP:20260423T185709
CREATED:20250501T161630Z
LAST-MODIFIED:20250602T134846Z
UID:10286-1751101200-1751130000@stowetrails.org
SUMMARY:Velo Stowe
DESCRIPTION:Velo Stowe is back for its third year on Saturday June 28th with Tälta Lodge and Hitchhiker Bike Shop. Velo Stowe is a scenic\, fully marked gravel ride to take part in with your friends\, family\, or even solo! We have two courses for every rider\, a 25 mile route and a 45 mile route.\nAfter your ride\, join us at Tälta Lodge\, located at 3343 Mountain Rd\, Stowe VT\, for some well-deserved food\, beverages\, live music\, and more!\nNeed somewhere to stay? Check out this exclusive participant offer from Tälta to save up to 20% on your room!\nGrab your entry today\, and we’ll see you on June 28th!
URL:https://stowetrails.org/event/velo-stowe/
LOCATION:VT
CATEGORIES:Gravel Ride
ATTACH;FMTTYPE=image/png:https://stowetrails.org/wp-content/uploads/2025/01/7d207500-f64d-4de8-abd1-ba8b71f158a9.png
ORGANIZER;CN="Stowe Trails Partnership":MAILTO:info@stowetrails.org
END:VEVENT
END:VCALENDAR