BEGIN:VCALENDAR
VERSION:2.0
PRODID:-//Stowe Trails Partnership - ECPv6.11.2.1//NONSGML v1.0//EN
CALSCALE:GREGORIAN
METHOD:PUBLISH
X-WR-CALNAME:Stowe Trails Partnership
X-ORIGINAL-URL:https://stowetrails.org
X-WR-CALDESC:Events for Stowe Trails Partnership
REFRESH-INTERVAL;VALUE=DURATION:PT1H
X-Robots-Tag:noindex
X-PUBLISHED-TTL:PT1H
BEGIN:VTIMEZONE
TZID:UTC
BEGIN:STANDARD
TZOFFSETFROM:+0000
TZOFFSETTO:+0000
TZNAME:UTC
DTSTART:20250101T000000
END:STANDARD
END:VTIMEZONE
BEGIN:VEVENT
DTSTART;TZID=UTC:20250606T080000
DTEND;TZID=UTC:20250608T170000
DTSTAMP:20260424T085324
CREATED:20250501T161457Z
LAST-MODIFIED:20250501T161457Z
UID:10282-1749196800-1749402000@stowetrails.org
SUMMARY:Elevate Mountain Bike Festival
DESCRIPTION:Join Vermont Mountain Bike Association\, Kingdom Trails Association\, and New England Mountain Bike Association for the 3rd iteration of Elevate Mountain Bike Festival for women and gender-expansive riders at von Trapp Family Lodge and Resort! \nWhether it is your first season or your 30th season\, Elevate has something to offer. A weekend filled with coaching from some of New England’s finest certified mountain bike coaches\, beverages thanks to Lawson’s\, and much more. \nThis is an event you won’t want to miss.
URL:https://stowetrails.org/event/elevate-mountain-bike-festival/
LOCATION:trapp family lodge
CATEGORIES:Festival
ATTACH;FMTTYPE=image/png:https://stowetrails.org/wp-content/uploads/2025/02/elevate-logo-experiments-09-3.png
END:VEVENT
END:VCALENDAR