BEGIN:VCALENDAR
VERSION:2.0
PRODID:-//Stowe Trails Partnership - ECPv6.11.2.1//NONSGML v1.0//EN
CALSCALE:GREGORIAN
METHOD:PUBLISH
X-WR-CALNAME:Stowe Trails Partnership
X-ORIGINAL-URL:https://stowetrails.org
X-WR-CALDESC:Events for Stowe Trails Partnership
REFRESH-INTERVAL;VALUE=DURATION:PT1H
X-Robots-Tag:noindex
X-PUBLISHED-TTL:PT1H
BEGIN:VTIMEZONE
TZID:UTC
BEGIN:STANDARD
TZOFFSETFROM:+0000
TZOFFSETTO:+0000
TZNAME:UTC
DTSTART:20260101T000000
END:STANDARD
END:VTIMEZONE
BEGIN:VEVENT
DTSTART;TZID=UTC:20260407T180000
DTEND;TZID=UTC:20260407T190000
DTSTAMP:20260423T192031
CREATED:20260312T154102Z
LAST-MODIFIED:20260312T154102Z
UID:10826-1775584800-1775588400@stowetrails.org
SUMMARY:April 2026 Outreach Committee Meeting
DESCRIPTION:Join us April 7th for our monthly Outreach Committee meeting from 6-7 pm at the Stowe Area Association. Please reach out to info@stowetrails.org with any questions!
URL:https://stowetrails.org/event/april-2026-outreach-committee-meeting/
LOCATION:Stowe Area Association
CATEGORIES:Board/Committee Meeting
ORGANIZER;CN="Stowe Trails Partnership":MAILTO:info@stowetrails.org
END:VEVENT
END:VCALENDAR