BEGIN:VCALENDAR
VERSION:2.0
PRODID:-//Stowe Trails Partnership - ECPv6.11.2.1//NONSGML v1.0//EN
CALSCALE:GREGORIAN
METHOD:PUBLISH
X-ORIGINAL-URL:https://stowetrails.org
X-WR-CALDESC:Events for Stowe Trails Partnership
REFRESH-INTERVAL;VALUE=DURATION:PT1H
X-Robots-Tag:noindex
X-PUBLISHED-TTL:PT1H
BEGIN:VTIMEZONE
TZID:UTC
BEGIN:STANDARD
TZOFFSETFROM:+0000
TZOFFSETTO:+0000
TZNAME:UTC
DTSTART:20260101T000000
END:STANDARD
END:VTIMEZONE
BEGIN:VEVENT
DTSTART;TZID=UTC:20260114T080000
DTEND;TZID=UTC:20260114T170000
DTSTAMP:20260423T232751
CREATED:20260114T220631Z
LAST-MODIFIED:20260114T220631Z
UID:10730-1768377600-1768410000@stowetrails.org
SUMMARY:Monthly Board Meeting
DESCRIPTION:All Stowe Trails Partnership board meetings are open to the public! Please join us at Stowe Area Association on the second Wednesday of each month from 6-8pm. Reach out with any questions you may have
URL:https://stowetrails.org/event/monthly-board-meeting/
LOCATION:Stowe Area Association
CATEGORIES:Board/Committee Meeting
END:VEVENT
END:VCALENDAR