BEGIN:VCALENDAR
VERSION:2.0
PRODID:-//Stowe Trails Partnership - ECPv6.11.2.1//NONSGML v1.0//EN
CALSCALE:GREGORIAN
METHOD:PUBLISH
X-ORIGINAL-URL:https://stowetrails.org
X-WR-CALDESC:Events for Stowe Trails Partnership
REFRESH-INTERVAL;VALUE=DURATION:PT1H
X-Robots-Tag:noindex
X-PUBLISHED-TTL:PT1H
BEGIN:VTIMEZONE
TZID:UTC
BEGIN:STANDARD
TZOFFSETFROM:+0000
TZOFFSETTO:+0000
TZNAME:UTC
DTSTART:20260101T000000
END:STANDARD
END:VTIMEZONE
BEGIN:VEVENT
DTSTART;TZID=UTC:20260602T180000
DTEND;TZID=UTC:20260602T190000
DTSTAMP:20260423T205037
CREATED:20260312T154258Z
LAST-MODIFIED:20260312T154258Z
UID:10830-1780423200-1780426800@stowetrails.org
SUMMARY:June 2026 Outreach Committee Meeting
DESCRIPTION:Join us June 2nd for our monthly Outreach Committee meeting from 6-7 pm at the Stowe Area Association. Please reach out to info@stowetrails.org with any questions!
URL:https://stowetrails.org/event/june-2026-outreach-committee-meeting/
LOCATION:Stowe Area Association
CATEGORIES:Board/Committee Meeting
ORGANIZER;CN="Stowe Trails Partnership":MAILTO:info@stowetrails.org
END:VEVENT
BEGIN:VEVENT
DTSTART;TZID=UTC:20260610T180000
DTEND;TZID=UTC:20260610T200000
DTSTAMP:20260423T205037
CREATED:20260312T145921Z
LAST-MODIFIED:20260312T150950Z
UID:10770-1781114400-1781121600@stowetrails.org
SUMMARY:June Board of Directors Meeting
DESCRIPTION:Join us June 10th for our monthly Board of Directors meeting from 6-8 pm at the Stowe Area Association. Please reach out to info@stowetrails.org with any questions!
URL:https://stowetrails.org/event/june-board-of-directors-meeting/
LOCATION:Stowe Area Association
CATEGORIES:Board/Committee Meeting
ORGANIZER;CN="Stowe Trails Partnership":MAILTO:info@stowetrails.org
END:VEVENT
BEGIN:VEVENT
DTSTART;TZID=UTC:20260616T180000
DTEND;TZID=UTC:20260616T190000
DTSTAMP:20260423T205037
CREATED:20260312T151227Z
LAST-MODIFIED:20260312T151227Z
UID:10796-1781632800-1781636400@stowetrails.org
SUMMARY:June Fundraising Committee Meeting
DESCRIPTION:Join us June 16th for our monthly Fundraising Committee meeting from 6-7 pm at the Stowe Area Association. Please reach out to info@stowetrails.org with any questions!
URL:https://stowetrails.org/event/june-fundraising-committee-meeting/
LOCATION:Stowe Area Association
CATEGORIES:Board/Committee Meeting
ORGANIZER;CN="Stowe Trails Partnership":MAILTO:info@stowetrails.org
END:VEVENT
BEGIN:VEVENT
DTSTART;TZID=UTC:20260623T180000
DTEND;TZID=UTC:20260623T193000
DTSTAMP:20260423T205037
CREATED:20260312T153715Z
LAST-MODIFIED:20260312T153715Z
UID:10822-1782237600-1782243000@stowetrails.org
SUMMARY:June 2026 Trail Committee Meeting
DESCRIPTION:Join us June 23rd for our monthly Trail Committee meeting from 6-7:30 pm at the Stowe Area Association. Please reach out to kelsie@stowetrails.org with any questions!
URL:https://stowetrails.org/event/june-2026-trail-committee-meeting/
LOCATION:Stowe Area Association
CATEGORIES:Board/Committee Meeting
ORGANIZER;CN="Stowe Trails Partnership":MAILTO:info@stowetrails.org
END:VEVENT
END:VCALENDAR