BEGIN:VCALENDAR
VERSION:2.0
PRODID:-//Stowe Trails Partnership - ECPv6.11.2.1//NONSGML v1.0//EN
CALSCALE:GREGORIAN
METHOD:PUBLISH
X-WR-CALNAME:Stowe Trails Partnership
X-ORIGINAL-URL:https://stowetrails.org
X-WR-CALDESC:Events for Stowe Trails Partnership
REFRESH-INTERVAL;VALUE=DURATION:PT1H
X-Robots-Tag:noindex
X-PUBLISHED-TTL:PT1H
BEGIN:VTIMEZONE
TZID:UTC
BEGIN:STANDARD
TZOFFSETFROM:+0000
TZOFFSETTO:+0000
TZNAME:UTC
DTSTART:20250101T000000
END:STANDARD
END:VTIMEZONE
BEGIN:VEVENT
DTSTART;TZID=UTC:20251210T180000
DTEND;TZID=UTC:20251210T190000
DTSTAMP:20260423T233218
CREATED:20251208T235651Z
LAST-MODIFIED:20251208T235651Z
UID:10659-1765389600-1765393200@stowetrails.org
SUMMARY:STP Board Meeting
DESCRIPTION:Join us for our monthly board meeting. \nAgenda linked here \n  \nR. side door and upstairs!
URL:https://stowetrails.org/event/stp-board-meeting/
LOCATION:Stowe Area Association
CATEGORIES:Board/Committee Meeting
END:VEVENT
END:VCALENDAR