BEGIN:VCALENDAR
VERSION:2.0
PRODID:-//Stowe Trails Partnership - ECPv6.11.2.1//NONSGML v1.0//EN
CALSCALE:GREGORIAN
METHOD:PUBLISH
X-WR-CALNAME:Stowe Trails Partnership
X-ORIGINAL-URL:https://stowetrails.org
X-WR-CALDESC:Events for Stowe Trails Partnership
REFRESH-INTERVAL;VALUE=DURATION:PT1H
X-Robots-Tag:noindex
X-PUBLISHED-TTL:PT1H
BEGIN:VTIMEZONE
TZID:UTC
BEGIN:STANDARD
TZOFFSETFROM:+0000
TZOFFSETTO:+0000
TZNAME:UTC
DTSTART:20260101T000000
END:STANDARD
END:VTIMEZONE
BEGIN:VEVENT
DTSTART;TZID=UTC:20260427T180000
DTEND;TZID=UTC:20260427T190000
DTSTAMP:20260423T113733
CREATED:20260312T150530Z
LAST-MODIFIED:20260420T175714Z
UID:10784-1777312800-1777316400@stowetrails.org
SUMMARY:April 2026 Fundraising Committee Meeting
DESCRIPTION:Join us April 21st for our monthly Fundraising Committee meeting from 6-7 pm at the Stowe Area Association. Please reach out to info@stowetrails.org with any questions!
URL:https://stowetrails.org/event/april-2026-fundraising-committee-meeting/
LOCATION:Stowe Area Association
CATEGORIES:Board/Committee Meeting
ORGANIZER;CN="Stowe Trails Partnership":MAILTO:info@stowetrails.org
END:VEVENT
BEGIN:VEVENT
DTSTART;TZID=UTC:20260429T180000
DTEND;TZID=UTC:20260429T200000
DTSTAMP:20260423T113733
CREATED:20260123T170708Z
LAST-MODIFIED:20260123T170708Z
UID:10738-1777485600-1777492800@stowetrails.org
SUMMARY:2026 Season Kick-Off Party
DESCRIPTION:Join us on April 29th at The Alchemist Brewery to celebrate the start of warm-weather riding season! Make sure you have your STP membership prior to the event\, or stop over and see our friends from VMBA to grab your membership for access to complimentary beer from our gracious hosts! \nGrab a new season of STP schwag and don’t forget to enter to win in our raffle! We’ll make some amazing prizes you DON’T want to miss!
URL:https://stowetrails.org/event/2026-season-kick-off-party/
CATEGORIES:Annual Meeting
ATTACH;FMTTYPE=image/webp:https://stowetrails.org/wp-content/uploads/2023/05/STP_bike1.webp
END:VEVENT
BEGIN:VEVENT
DTSTART;TZID=UTC:20260505T180000
DTEND;TZID=UTC:20260505T190000
DTSTAMP:20260423T113733
CREATED:20260312T154217Z
LAST-MODIFIED:20260312T154217Z
UID:10828-1778004000-1778007600@stowetrails.org
SUMMARY:May 2026 Outreach Committee Meeting
DESCRIPTION:Join us May 5th for our monthly Outreach Committee meeting from 6-7 pm at the Stowe Area Association. Please reach out to info@stowetrails.org with any questions!
URL:https://stowetrails.org/event/may-2026-outreach-committee-meeting/
LOCATION:Stowe Area Association
CATEGORIES:Board/Committee Meeting
ORGANIZER;CN="Stowe Trails Partnership":MAILTO:info@stowetrails.org
END:VEVENT
BEGIN:VEVENT
DTSTART;TZID=UTC:20260509T090000
DTEND;TZID=UTC:20260509T140000
DTSTAMP:20260423T113733
CREATED:20260304T154432Z
LAST-MODIFIED:20260304T154432Z
UID:10742-1778317200-1778335200@stowetrails.org
SUMMARY:Spring Trail Work Day!
DESCRIPTION:Join STP to kick-off the trail work season on May 9th (rain date of May 23rd) to make sure our trails are in the best shape possible. This is a fantastic opportunity to give back to the trails you know\, love\, and use. \nWhat to bring: \nClothes you aren’t afraid to get dirty \n\nClosed-toed shoes\nWater\nGloves if you have em’\nAny preferred tools you like to use\nWe’ll bring the rest (and beer/pizza)
URL:https://stowetrails.org/event/spring-trail-work-day/
CATEGORIES:Trail Work
END:VEVENT
BEGIN:VEVENT
DTSTART;TZID=UTC:20260513T180000
DTEND;TZID=UTC:20260513T200000
DTSTAMP:20260423T113733
CREATED:20260312T145838Z
LAST-MODIFIED:20260312T151028Z
UID:10768-1778695200-1778702400@stowetrails.org
SUMMARY:May 2026 Board of Directors Meeting
DESCRIPTION:Join us May 13th for our monthly Board of Directors meeting from 6-8 pm at the Stowe Area Association. Please reach out to info@stowetrails.org with any questions!
URL:https://stowetrails.org/event/may-2026-board-of-directors-meeting/
LOCATION:Stowe Area Association
CATEGORIES:Board/Committee Meeting
ORGANIZER;CN="Stowe Trails Partnership":MAILTO:info@stowetrails.org
END:VEVENT
BEGIN:VEVENT
DTSTART;TZID=UTC:20260519T180000
DTEND;TZID=UTC:20260519T190000
DTSTAMP:20260423T113733
CREATED:20260312T150648Z
LAST-MODIFIED:20260312T150648Z
UID:10786-1779213600-1779217200@stowetrails.org
SUMMARY:May 2026 Fundraising Committee Meeting
DESCRIPTION:Join us May 19th for our monthly Fundraising Committee meeting from 6-7 pm at the Stowe Area Association. Please reach out to info@stowetrails.org with any questions!
URL:https://stowetrails.org/event/may-2026-fundraising-committee-meeting/
LOCATION:Stowe Area Association
CATEGORIES:Board/Committee Meeting
ORGANIZER;CN="Stowe Trails Partnership":MAILTO:info@stowetrails.org
END:VEVENT
BEGIN:VEVENT
DTSTART;TZID=UTC:20260526T180000
DTEND;TZID=UTC:20260526T193000
DTSTAMP:20260423T113733
CREATED:20260312T153824Z
LAST-MODIFIED:20260312T153824Z
UID:10824-1779818400-1779823800@stowetrails.org
SUMMARY:May 2026 Trail Committee Meeting
DESCRIPTION:Join us May 26th for our monthly Trail Committee meeting from 6-7:30 pm at the Stowe Area Association. Please reach out to kelsie@stowetrails.org with any questions!
URL:https://stowetrails.org/event/may-2026-trail-committee-meeting/
LOCATION:Stowe Area Association
CATEGORIES:Board/Committee Meeting
ORGANIZER;CN="Stowe Trails Partnership":MAILTO:info@stowetrails.org
END:VEVENT
BEGIN:VEVENT
DTSTART;TZID=UTC:20260602T180000
DTEND;TZID=UTC:20260602T190000
DTSTAMP:20260423T113733
CREATED:20260312T154258Z
LAST-MODIFIED:20260312T154258Z
UID:10830-1780423200-1780426800@stowetrails.org
SUMMARY:June 2026 Outreach Committee Meeting
DESCRIPTION:Join us June 2nd for our monthly Outreach Committee meeting from 6-7 pm at the Stowe Area Association. Please reach out to info@stowetrails.org with any questions!
URL:https://stowetrails.org/event/june-2026-outreach-committee-meeting/
LOCATION:Stowe Area Association
CATEGORIES:Board/Committee Meeting
ORGANIZER;CN="Stowe Trails Partnership":MAILTO:info@stowetrails.org
END:VEVENT
BEGIN:VEVENT
DTSTART;TZID=UTC:20260610T180000
DTEND;TZID=UTC:20260610T200000
DTSTAMP:20260423T113733
CREATED:20260312T145921Z
LAST-MODIFIED:20260312T150950Z
UID:10770-1781114400-1781121600@stowetrails.org
SUMMARY:June Board of Directors Meeting
DESCRIPTION:Join us June 10th for our monthly Board of Directors meeting from 6-8 pm at the Stowe Area Association. Please reach out to info@stowetrails.org with any questions!
URL:https://stowetrails.org/event/june-board-of-directors-meeting/
LOCATION:Stowe Area Association
CATEGORIES:Board/Committee Meeting
ORGANIZER;CN="Stowe Trails Partnership":MAILTO:info@stowetrails.org
END:VEVENT
BEGIN:VEVENT
DTSTART;TZID=UTC:20260616T180000
DTEND;TZID=UTC:20260616T190000
DTSTAMP:20260423T113733
CREATED:20260312T151227Z
LAST-MODIFIED:20260312T151227Z
UID:10796-1781632800-1781636400@stowetrails.org
SUMMARY:June Fundraising Committee Meeting
DESCRIPTION:Join us June 16th for our monthly Fundraising Committee meeting from 6-7 pm at the Stowe Area Association. Please reach out to info@stowetrails.org with any questions!
URL:https://stowetrails.org/event/june-fundraising-committee-meeting/
LOCATION:Stowe Area Association
CATEGORIES:Board/Committee Meeting
ORGANIZER;CN="Stowe Trails Partnership":MAILTO:info@stowetrails.org
END:VEVENT
BEGIN:VEVENT
DTSTART;TZID=UTC:20260623T180000
DTEND;TZID=UTC:20260623T193000
DTSTAMP:20260423T113733
CREATED:20260312T153715Z
LAST-MODIFIED:20260312T153715Z
UID:10822-1782237600-1782243000@stowetrails.org
SUMMARY:June 2026 Trail Committee Meeting
DESCRIPTION:Join us June 23rd for our monthly Trail Committee meeting from 6-7:30 pm at the Stowe Area Association. Please reach out to kelsie@stowetrails.org with any questions!
URL:https://stowetrails.org/event/june-2026-trail-committee-meeting/
LOCATION:Stowe Area Association
CATEGORIES:Board/Committee Meeting
ORGANIZER;CN="Stowe Trails Partnership":MAILTO:info@stowetrails.org
END:VEVENT
BEGIN:VEVENT
DTSTART;TZID=UTC:20260627T080000
DTEND;TZID=UTC:20260627T170000
DTSTAMP:20260423T113733
CREATED:20251220T182237Z
LAST-MODIFIED:20260123T172156Z
UID:10702-1782547200-1782579600@stowetrails.org
SUMMARY:2026 Velo Stowe
DESCRIPTION:Save the date for Stowe Trails Partnership’s 2026 rendition of Velo Stowe! In partnership with Hitchhiker Bike Shop and Talta Lodge\, this is a gravel event you won’t want to miss! \nRegistration is open for the 2026 iteration of Velo Stowe.
URL:https://stowetrails.org/event/2026-velo-stowe/
LOCATION:Talta Lodge\, Stowe\, VT\, 05672\, United States
CATEGORIES:Festival,Gravel Ride
ATTACH;FMTTYPE=application/pdf:https://stowetrails.org/wp-content/uploads/2025/12/Velo-Stowe-2026-Poster.pdf
ORGANIZER;CN="Stowe Trails Partnership":MAILTO:info@stowetrails.org
END:VEVENT
BEGIN:VEVENT
DTSTART;TZID=UTC:20260707T180000
DTEND;TZID=UTC:20260707T190000
DTSTAMP:20260423T113733
CREATED:20260312T154338Z
LAST-MODIFIED:20260312T154338Z
UID:10832-1783447200-1783450800@stowetrails.org
SUMMARY:July Outreach Committee Meeting
DESCRIPTION:Join us July 7th for our monthly Outreach Committee meeting from 6-7 pm at the Stowe Area Association. Please reach out to info@stowetrails.org with any questions!
URL:https://stowetrails.org/event/july-outreach-committee-meeting/
LOCATION:Stowe Area Association
CATEGORIES:Board/Committee Meeting
ORGANIZER;CN="Stowe Trails Partnership":MAILTO:info@stowetrails.org
END:VEVENT
BEGIN:VEVENT
DTSTART;TZID=UTC:20260708T180000
DTEND;TZID=UTC:20260708T200000
DTSTAMP:20260423T113733
CREATED:20260312T150014Z
LAST-MODIFIED:20260312T150933Z
UID:10772-1783533600-1783540800@stowetrails.org
SUMMARY:July Board of Directors Meeting
DESCRIPTION:Join us July 8th  for our monthly Board of Directors meeting from 6-8 pm at the Stowe Area Association. Please reach out to info@stowetrails.org with any questions!
URL:https://stowetrails.org/event/july-board-of-directors-meeting/
LOCATION:Stowe Area Association
CATEGORIES:Board/Committee Meeting
ORGANIZER;CN="Stowe Trails Partnership":MAILTO:info@stowetrails.org
END:VEVENT
BEGIN:VEVENT
DTSTART;TZID=UTC:20260714T180000
DTEND;TZID=UTC:20260714T190000
DTSTAMP:20260423T113733
CREATED:20260312T151327Z
LAST-MODIFIED:20260312T151327Z
UID:10798-1784052000-1784055600@stowetrails.org
SUMMARY:July Fundraising Committee Meeting
DESCRIPTION:Join us July 14th for our monthly Fundraising Committee meeting from 6-7 pm at the Stowe Area Association. Please reach out to info@stowetrails.org with any questions!
URL:https://stowetrails.org/event/july-fundraising-committee-meeting/
LOCATION:Stowe Area Association
CATEGORIES:Board/Committee Meeting
ORGANIZER;CN="Stowe Trails Partnership":MAILTO:info@stowetrails.org
END:VEVENT
BEGIN:VEVENT
DTSTART;TZID=UTC:20260728T180000
DTEND;TZID=UTC:20260728T193000
DTSTAMP:20260423T113733
CREATED:20260312T153633Z
LAST-MODIFIED:20260312T153633Z
UID:10820-1785261600-1785267000@stowetrails.org
SUMMARY:July 2026 Trail Committee Meeting
DESCRIPTION:Join us July 28th for our monthly Trail Committee meeting from 6-7:30 pm at the Stowe Area Association. Please reach out to kelsie@stowetrails.org with any questions!
URL:https://stowetrails.org/event/july-2026-trail-committee-meeting/
LOCATION:Stowe Area Association
CATEGORIES:Board/Committee Meeting
ORGANIZER;CN="Stowe Trails Partnership":MAILTO:info@stowetrails.org
END:VEVENT
BEGIN:VEVENT
DTSTART;TZID=UTC:20260804T180000
DTEND;TZID=UTC:20260804T190000
DTSTAMP:20260423T113733
CREATED:20260312T154417Z
LAST-MODIFIED:20260312T154417Z
UID:10834-1785866400-1785870000@stowetrails.org
SUMMARY:August 2026 Outreach Committee Meeting
DESCRIPTION:Join us August 4th for our monthly Outreach Committee meeting from 6-7 pm at the Stowe Area Association. Please reach out to info@stowetrails.org with any questions!
URL:https://stowetrails.org/event/august-2026-outreach-committee-meeting/
LOCATION:Stowe Area Association
CATEGORIES:Board/Committee Meeting
ORGANIZER;CN="Stowe Trails Partnership":MAILTO:info@stowetrails.org
END:VEVENT
BEGIN:VEVENT
DTSTART;TZID=UTC:20260812T180000
DTEND;TZID=UTC:20260812T200000
DTSTAMP:20260423T113733
CREATED:20260312T150106Z
LAST-MODIFIED:20260312T150914Z
UID:10774-1786557600-1786564800@stowetrails.org
SUMMARY:August Board of Directors Meeting
DESCRIPTION:Join us August 12th for our monthly Board of Directors meeting from 6-8 pm at the Stowe Area Association. Please reach out to info@stowetrails.org with any questions!
URL:https://stowetrails.org/event/august-board-of-directors-meeting/
LOCATION:Stowe Area Association
CATEGORIES:Board/Committee Meeting
ORGANIZER;CN="Stowe Trails Partnership":MAILTO:info@stowetrails.org
END:VEVENT
BEGIN:VEVENT
DTSTART;TZID=UTC:20260818T180000
DTEND;TZID=UTC:20260818T190000
DTSTAMP:20260423T113733
CREATED:20260312T151418Z
LAST-MODIFIED:20260312T151418Z
UID:10800-1787076000-1787079600@stowetrails.org
SUMMARY:August Fundraising Committee Meeting
DESCRIPTION:Join us August 18th for our monthly Fundraising Committee meeting from 6-7 pm at the Stowe Area Association. Please reach out to info@stowetrails.org with any questions!
URL:https://stowetrails.org/event/august-fundraising-committee-meeting/
LOCATION:Stowe Area Association
CATEGORIES:Board/Committee Meeting
ORGANIZER;CN="Stowe Trails Partnership":MAILTO:info@stowetrails.org
END:VEVENT
BEGIN:VEVENT
DTSTART;TZID=UTC:20260821T000000
DTEND;TZID=UTC:20260823T235959
DTSTAMP:20260423T113733
CREATED:20260325T123731Z
LAST-MODIFIED:20260325T123731Z
UID:10860-1787270400-1787529599@stowetrails.org
SUMMARY:GMAS Stowe Adaptive Mountain Bike Weekend
DESCRIPTION:Join our friends from Green Mountain Adaptive Sports for their annual Stowe Adaptive Mountain Bike Weekend on August 21-23\, 2026. We are proud to welcome Adaptive Sports Partners (ASP)\, New England Disabled Sports (NEDS) and the Kelly Brush Foundation (KBF) as our partners of this annual event. They will join us to support\, to ride\, and to provide equipment and volunteers in this collaborative event. \nThis event is limited to athletes riding e-assist mountain bikes. We will have a few demo e-bikes available for people to borrow\, but riders are expected to bring their own bikes. \nThe general plan is to ride the great trails at Cady Hill Forest in the heart of Stowe\, Vermont on Saturday\, and ride at the Little River State Park in Waterbury\, or The Driving Range in Bolton on Sunday morning. We will not participate in the Race to the Top of Vermont this year. \nThe event is $65 (includes a jersey\, lunch\, and 2 days of camping). Athletes can choose to participate in one day only\, or both days. Companions and volunteers can participate for free\, and if desired\, purchase the jersey for $50. All jersey orders need to be placed by June 15th. All participants MUST fill out the registration form below. If this fee is a financial burden\, contact Pascale to apply for a full\, or a partial scholarship. \nFind more information for the event here.
URL:https://stowetrails.org/event/gmas-stowe-adaptive-mountain-bike-weekend/
CATEGORIES:Festival
END:VEVENT
BEGIN:VEVENT
DTSTART;TZID=UTC:20260825T180000
DTEND;TZID=UTC:20260825T193000
DTSTAMP:20260423T113733
CREATED:20260312T153554Z
LAST-MODIFIED:20260312T153554Z
UID:10818-1787680800-1787686200@stowetrails.org
SUMMARY:August 2026 Trail Committee Meeting
DESCRIPTION:Join us August 25th for our monthly Trail Committee meeting from 6-7:30 pm at the Stowe Area Association. Please reach out to kelsie@stowetrails.org with any questions!
URL:https://stowetrails.org/event/august-2026-trail-committee-meeting/
LOCATION:Stowe Area Association
CATEGORIES:Board/Committee Meeting
ORGANIZER;CN="Stowe Trails Partnership":MAILTO:info@stowetrails.org
END:VEVENT
BEGIN:VEVENT
DTSTART;TZID=UTC:20260901T180000
DTEND;TZID=UTC:20260901T190000
DTSTAMP:20260423T113733
CREATED:20260312T154504Z
LAST-MODIFIED:20260312T154504Z
UID:10836-1788285600-1788289200@stowetrails.org
SUMMARY:September 2026 Outreach Committee Meeting
DESCRIPTION:Join us September 1st for our monthly Outreach Committee meeting from 6-7 pm at the Stowe Area Association. Please reach out to info@stowetrails.org with any questions!
URL:https://stowetrails.org/event/september-2026-outreach-committee-meeting/
LOCATION:Stowe Area Association
CATEGORIES:Board/Committee Meeting
ORGANIZER;CN="Stowe Trails Partnership":MAILTO:info@stowetrails.org
END:VEVENT
BEGIN:VEVENT
DTSTART;TZID=UTC:20260909T180000
DTEND;TZID=UTC:20260909T200000
DTSTAMP:20260423T113733
CREATED:20260312T150148Z
LAST-MODIFIED:20260312T150857Z
UID:10776-1788976800-1788984000@stowetrails.org
SUMMARY:September 2026 Board of Directors Meeting
DESCRIPTION:Join us September 9th for our monthly Board of Directors meeting from 6-8 pm at the Stowe Area Association. Please reach out to info@stowetrails.org with any questions!
URL:https://stowetrails.org/event/september-2026-board-of-directors-meeting/
LOCATION:Stowe Area Association
CATEGORIES:Board/Committee Meeting
ORGANIZER;CN="Stowe Trails Partnership":MAILTO:info@stowetrails.org
END:VEVENT
BEGIN:VEVENT
DTSTART;TZID=UTC:20260915T180000
DTEND;TZID=UTC:20260915T190000
DTSTAMP:20260423T113733
CREATED:20260312T151508Z
LAST-MODIFIED:20260312T151508Z
UID:10802-1789495200-1789498800@stowetrails.org
SUMMARY:September Fundraising Committee Meeting
DESCRIPTION:Join us September 15th for our monthly Fundraising Committee meeting from 6-7 pm at the Stowe Area Association. Please reach out to info@stowetrails.org with any questions!
URL:https://stowetrails.org/event/september-fundraising-committee-meeting/
LOCATION:Stowe Area Association
CATEGORIES:Board/Committee Meeting
ORGANIZER;CN="Stowe Trails Partnership":MAILTO:info@stowetrails.org
END:VEVENT
BEGIN:VEVENT
DTSTART;TZID=UTC:20260922T180000
DTEND;TZID=UTC:20260922T193000
DTSTAMP:20260423T113733
CREATED:20260312T153514Z
LAST-MODIFIED:20260312T153514Z
UID:10816-1790100000-1790105400@stowetrails.org
SUMMARY:September 2026 Trail Committee Meeting
DESCRIPTION:Join us September 22nd for our monthly Trail Committee meeting from 6-7:30 pm at the Stowe Area Association. Please reach out to kelsie@stowetrails.org with any questions!
URL:https://stowetrails.org/event/september-2026-trail-committee-meeting/
LOCATION:Stowe Area Association
CATEGORIES:Board/Committee Meeting
ORGANIZER;CN="Stowe Trails Partnership":MAILTO:info@stowetrails.org
END:VEVENT
BEGIN:VEVENT
DTSTART;TZID=UTC:20261006T180000
DTEND;TZID=UTC:20261006T190000
DTSTAMP:20260423T113733
CREATED:20260312T155729Z
LAST-MODIFIED:20260312T155729Z
UID:10842-1791309600-1791313200@stowetrails.org
SUMMARY:October 2026 Outreach Committee Meeting
DESCRIPTION:Join us October 6th for our monthly Outreach Committee meeting from 6-7 pm at the Stowe Area Association. Please reach out to info@stowetrails.org with any questions!
URL:https://stowetrails.org/event/october-2026-outreach-committee-meeting/
LOCATION:Stowe Area Association
CATEGORIES:Board/Committee Meeting
ORGANIZER;CN="Stowe Trails Partnership":MAILTO:info@stowetrails.org
END:VEVENT
BEGIN:VEVENT
DTSTART;TZID=UTC:20261007T180000
DTEND;TZID=UTC:20261007T200000
DTSTAMP:20260423T113733
CREATED:20260312T150244Z
LAST-MODIFIED:20260312T150831Z
UID:10778-1791396000-1791403200@stowetrails.org
SUMMARY:October 2026 Board of Directors Meeting
DESCRIPTION:Join us October 7th for our monthly Board of Directors meeting from 6-8 pm at the Stowe Area Association. Please reach out to info@stowetrails.org with any questions!
URL:https://stowetrails.org/event/october-2026-board-of-directors-meeting/
LOCATION:Stowe Area Association
CATEGORIES:Board/Committee Meeting
ORGANIZER;CN="Stowe Trails Partnership":MAILTO:info@stowetrails.org
END:VEVENT
BEGIN:VEVENT
DTSTART;TZID=UTC:20261010T080000
DTEND;TZID=UTC:20261010T170000
DTSTAMP:20260423T113733
CREATED:20251220T182612Z
LAST-MODIFIED:20251220T182612Z
UID:10705-1791619200-1791651600@stowetrails.org
SUMMARY:15th Annual Leaf Blower Fall Classic
DESCRIPTION:Save the date for our 15th annual Leaf Blower Fall Classic at Strawberry Hill Farms on October 10th\, 2026! \nSign up for our newsletter to stay in the know on more details and when we will release tickets for our biggest FUNdraiser of the year!
URL:https://stowetrails.org/event/15th-annual-leaf-blower-fall-classic/
LOCATION:strawberry hill farm
CATEGORIES:Festival,Group Ride
END:VEVENT
BEGIN:VEVENT
DTSTART;TZID=UTC:20261020T180000
DTEND;TZID=UTC:20261020T190000
DTSTAMP:20260423T113733
CREATED:20260312T151602Z
LAST-MODIFIED:20260312T151602Z
UID:10804-1792519200-1792522800@stowetrails.org
SUMMARY:October Fundraising Committee Meeting
DESCRIPTION:Join us October 20th for our monthly Fundraising Committee meeting from 6-7 pm at the Stowe Area Association. Please reach out to info@stowetrails.org with any questions!
URL:https://stowetrails.org/event/october-fundraising-committee-meeting/
LOCATION:Stowe Area Association
CATEGORIES:Board/Committee Meeting
ORGANIZER;CN="Stowe Trails Partnership":MAILTO:info@stowetrails.org
END:VEVENT
BEGIN:VEVENT
DTSTART;TZID=UTC:20261027T180000
DTEND;TZID=UTC:20261027T193000
DTSTAMP:20260423T113733
CREATED:20260312T153406Z
LAST-MODIFIED:20260312T153406Z
UID:10814-1793124000-1793129400@stowetrails.org
SUMMARY:October 2026 Trail Committee Meeting
DESCRIPTION:Join us October 27th for our monthly Trail Committee meeting from 6-7:30 pm at the Stowe Area Association. Please reach out to kelsie@stowetrails.org with any questions!
URL:https://stowetrails.org/event/october-2026-trail-committee-meeting/
LOCATION:Stowe Area Association
CATEGORIES:Board/Committee Meeting
ORGANIZER;CN="Stowe Trails Partnership":MAILTO:info@stowetrails.org
END:VEVENT
END:VCALENDAR