BEGIN:VCALENDAR
VERSION:2.0
PRODID:-//Stowe Trails Partnership - ECPv6.11.2.1//NONSGML v1.0//EN
CALSCALE:GREGORIAN
METHOD:PUBLISH
X-ORIGINAL-URL:https://stowetrails.org
X-WR-CALDESC:Events for Stowe Trails Partnership
REFRESH-INTERVAL;VALUE=DURATION:PT1H
X-Robots-Tag:noindex
X-PUBLISHED-TTL:PT1H
BEGIN:VTIMEZONE
TZID:UTC
BEGIN:STANDARD
TZOFFSETFROM:+0000
TZOFFSETTO:+0000
TZNAME:UTC
DTSTART:20260101T000000
END:STANDARD
END:VTIMEZONE
BEGIN:VEVENT
DTSTART;TZID=UTC:20260509T090000
DTEND;TZID=UTC:20260509T140000
DTSTAMP:20260423T172852
CREATED:20260304T154432Z
LAST-MODIFIED:20260304T154432Z
UID:10742-1778317200-1778335200@stowetrails.org
SUMMARY:Spring Trail Work Day!
DESCRIPTION:Join STP to kick-off the trail work season on May 9th (rain date of May 23rd) to make sure our trails are in the best shape possible. This is a fantastic opportunity to give back to the trails you know\, love\, and use. \nWhat to bring: \nClothes you aren’t afraid to get dirty \n\nClosed-toed shoes\nWater\nGloves if you have em’\nAny preferred tools you like to use\nWe’ll bring the rest (and beer/pizza)
URL:https://stowetrails.org/event/spring-trail-work-day/
CATEGORIES:Trail Work
END:VEVENT
END:VCALENDAR