BEGIN:VCALENDAR
VERSION:2.0
PRODID:-//Stowe Trails Partnership - ECPv6.11.2.1//NONSGML v1.0//EN
CALSCALE:GREGORIAN
METHOD:PUBLISH
X-WR-CALNAME:Stowe Trails Partnership
X-ORIGINAL-URL:https://stowetrails.org
X-WR-CALDESC:Events for Stowe Trails Partnership
REFRESH-INTERVAL;VALUE=DURATION:PT1H
X-Robots-Tag:noindex
X-PUBLISHED-TTL:PT1H
BEGIN:VTIMEZONE
TZID:UTC
BEGIN:STANDARD
TZOFFSETFROM:+0000
TZOFFSETTO:+0000
TZNAME:UTC
DTSTART:20250101T000000
END:STANDARD
END:VTIMEZONE
BEGIN:VEVENT
DTSTART;TZID=UTC:20251004T090000
DTEND;TZID=UTC:20251004T170000
DTSTAMP:20260424T002629
CREATED:20250804T164818Z
LAST-MODIFIED:20250902T165726Z
UID:10437-1759568400-1759597200@stowetrails.org
SUMMARY:14th Annual Leaf Blower Fall Classic
DESCRIPTION:Join us for the 14th Annual Leaf Blower Fall Classic on October 4th\, 2025! \n  \nThis year’s Leaf Blower will be held on Saturday\, October 4th\, and will be hosted at Strawberry Hill Farm. With amazing riding for all ability levels\, awesome vendors\, homegrown food\, local libations\, and live music\, there is no better way to cap off the season than with this one-day community bike bash. \nAs always\, the marquee draw will be the rides\, tackling some of the northeast’s best terrain and affording some of Vermont’s most epic views—whether you love endurance or are new to riding\, we have a singletrack loop for you that’ll pass multiple aid stations and maximize the fun! \nAfter you’ve gotten your fill of single-track\, join us back at Strawberry Hill Farm for a variety of food trucks; some brews and beverages; live music\, and a vendor village full of local businesses. Your registration fee covers the rides\, vendor garden\, aid station snacks\, a post-ride beverage\, and a food truck dinner. Don’t forget to purchase your Leaf Blower shirt to round out your registration! \nThe Leaf Blower is STP’s biggest fundraiser of the year (all proceeds go toward our work to keep the trails in great shape)\, so we appreciate your participation! Tickets will be released ASAP\, so grab yours before they are gone. Active- STP members can join us for $65 and non-members can join us for $90! \nDon’t forget to pre-order your Leaf Blower shirt by September 20th\, one of our favorite shirts to add to the collection every year! \n \nEvent Location \nStrawberry Hill Farm\, 300 Meadow Lane\, Stowe\, VT 05672 \nThis is a dog-free event. Please leave your furry friends at home! \nEvent Schedule \nWe’ll see you on Saturday\, October 4th! This is a rain-or-shine event\, but in the event of a total monsoon that would cause ample damage to the trails\, we will refund your ticket. \nSaturday Schedule \n9:00am: Registration opens \n9:30am – 11:30am: Riders depart \n12:30pm – 5:00pm: Food is served and music galore! \n  \nParking \nDue to limited space\, parking will not be allowed at Strawberry Hill Farm. Please park at the Stowe High School (413 Barrows Road) and ride your bike to Strawberry Hill Farm there (there will be signs on the trail to direct you). A bag check area will be available to store gear and bags while riding!
URL:https://stowetrails.org/event/14th-annual-leaf-blower-fall-classic/
LOCATION:strawberry hill farm
CATEGORIES:Festival
ATTACH;FMTTYPE=application/pdf:https://stowetrails.org/wp-content/uploads/2025/08/LB-Poster-2025-v2.pdf
ORGANIZER;CN="Stowe Trails Partnership":MAILTO:info@stowetrails.org
END:VEVENT
END:VCALENDAR