BEGIN:VCALENDAR
VERSION:2.0
PRODID:-//Stowe Trails Partnership - ECPv6.11.2.1//NONSGML v1.0//EN
CALSCALE:GREGORIAN
METHOD:PUBLISH
X-ORIGINAL-URL:https://stowetrails.org
X-WR-CALDESC:Events for Stowe Trails Partnership
REFRESH-INTERVAL;VALUE=DURATION:PT1H
X-Robots-Tag:noindex
X-PUBLISHED-TTL:PT1H
BEGIN:VTIMEZONE
TZID:UTC
BEGIN:STANDARD
TZOFFSETFROM:+0000
TZOFFSETTO:+0000
TZNAME:UTC
DTSTART:20250101T000000
END:STANDARD
END:VTIMEZONE
BEGIN:VEVENT
DTSTART;TZID=UTC:20250712T090000
DTEND;TZID=UTC:20250712T230000
DTSTAMP:20260424T035304
CREATED:20250709T163223Z
LAST-MODIFIED:20250709T163223Z
UID:10392-1752310800-1752361200@stowetrails.org
SUMMARY:Trail Day: Kirchner Woods
DESCRIPTION:Join fellow volunteers to shape trails that everyone can enjoy.\nJoin us for a hands-on morning of trail work at Kirchner Woods as we help complete the adaptive upgrades that make this trail network more accessible for all users\, including adaptive mountain bikers. \nWhether you’re a seasoned trail steward or just looking to give back to the local landscape\, this is a great opportunity to meet fellow outdoor enthusiasts and help keep our trails safe\, accessible\, and enjoyable for all. Volunteers of all ages are welcome to lend a hand as we work together to care for this beloved community trail network. \nWe’ll provide tools and instruction—just bring sturdy shoes\, water\, and a willingness to get your hands dirty! \nWhat to Expect: \n\nTrail work focused on adaptive features—moving soil and rocks to finish key sections\nA meaningful way to contribute to inclusive\, sustainable recreation in Stowe\nTime outdoors with a great community in a beautiful forest setting\n\nPlease Bring: \n\nSturdy\, closed-toe footwear\nWork gloves (SLT will provide a limited number of gloves)\nWater\, snacks\, and any other materials to be comfortable with the weather conditions\n\nRSVP is required; please use the event sign-up form HERE. A minimum of 5 registrations are needed for the program to run. Minors must be supervised by a parent or guardian. \nWe look forward to seeing you on the trails! \nQuestions or accessibility concerns? Contact nicole@stowelandtrust.org in advance. \n\n\nLocation:\nKirchner Woods
URL:https://stowetrails.org/event/trail-day-kirchner-woods/
LOCATION:Kirchner Woods
CATEGORIES:Trail Work
ATTACH;FMTTYPE=image/jpeg:https://stowetrails.org/wp-content/uploads/2025/07/csm_Nicole___Niels_adaptive_upgrades_9853d13178.jpg
END:VEVENT
END:VCALENDAR