BEGIN:VCALENDAR
VERSION:2.0
PRODID:-//Stowe Trails Partnership - ECPv6.11.2.1//NONSGML v1.0//EN
CALSCALE:GREGORIAN
METHOD:PUBLISH
X-ORIGINAL-URL:https://stowetrails.org
X-WR-CALDESC:Events for Stowe Trails Partnership
REFRESH-INTERVAL;VALUE=DURATION:PT1H
X-Robots-Tag:noindex
X-PUBLISHED-TTL:PT1H
BEGIN:VTIMEZONE
TZID:UTC
BEGIN:STANDARD
TZOFFSETFROM:+0000
TZOFFSETTO:+0000
TZNAME:UTC
DTSTART:20250101T000000
END:STANDARD
END:VTIMEZONE
BEGIN:VEVENT
DTSTART;TZID=UTC:20250627T160000
DTEND;TZID=UTC:20250627T180000
DTSTAMP:20260424T050000
CREATED:20250620T175919Z
LAST-MODIFIED:20250620T175919Z
UID:10383-1751040000-1751047200@stowetrails.org
SUMMARY:Stewardship for the Birds: A Guided Habitat Walk
DESCRIPTION:What makes a forest a good home for birds—and how does that relate to your role as a steward of our environment?\nJoin Stowe Land Trust and Audubon Vermont for an informative and engaging walk focused on forest bird habitat\, forest dynamics\, and the connections between conservation\, recreation\, and wildlife. Led by Steve Hagenbuch\, Senior Forest Program Manager with Audubon Vermont\, this free workshop will explore how bird-friendly forestry practices can support both ecological integrity and sustainable land use. \nWorkshop Highlights: \n\nLearn about the bird species that depend on Vermont’s forests\nExplore the key features of healthy bird habitat\nForest management techniques to enhance forest health and biodiversity\nOpportunities for observation\, discussion\, and Q&A along the trail\n\nWhether you’re actively managing a property or are curious about how to make your stewardship efforts more bird-friendly\, this event will offer practical insights and opportunities for shared learning. \nThe walk will take place on moderate trails—please come prepared with sturdy footwear and weather-appropriate layers. \nRSVP is required; please use the event sign-up form. A minimum of 5 registrants is needed for the program to run.
URL:https://stowetrails.org/event/stewardship-for-the-birds-a-guided-habitat-walk/
END:VEVENT
END:VCALENDAR